BEGIN:VCALENDAR
VERSION:2.0
PRODID:event_131
BEGIN:VEVENT
UID:131
SUMMARY:M-11 Nueva Norma ISO 14001:2026 - Principales cambios y novedades respecto a la versión 2015
DESCRIPTION;ENCODING=QUOTED-PRINTABLE:Para más informació de contenidos del programa, objetivos, etc. haz clic aquí
X-ALT-DESC;FMTTYPE=text/html:Para más informació de contenidos del programa, objetivos, etc. haz clic <a href="/es/p/m-11-nueva-norma-iso-14001-2026-principales-cambios-y-novedades-respecto-a-la-version-2015-4-284"><strong>aquí</strong></a>
LOCATION:Webinar / Aula Virtual Zoom
CATEGORIES:Gestión Ambiental
DTSTAMP:20260422T103152
DTSTART:20260512T000000
DTEND:20260512T000000
URL:https://ifd-bcn.org/es/e/calendario-de-proximos-cursos-ifd/m-11-nueva-norma-iso-14001-2026-principales-cambios-y-novedades-respecto-a-la-version-2015-131-1
END:VEVENT
END:VCALENDAR